BEGIN:VCALENDAR
VERSION:2.0
PRODID:-//Hermann J. Wiemer Vineyard - ECPv6.15.19//NONSGML v1.0//EN
CALSCALE:GREGORIAN
METHOD:PUBLISH
X-WR-CALNAME:Hermann J. Wiemer Vineyard
X-ORIGINAL-URL:https://www.wiemer.com
X-WR-CALDESC:Events for Hermann J. Wiemer Vineyard
REFRESH-INTERVAL;VALUE=DURATION:PT1H
X-Robots-Tag:noindex
X-PUBLISHED-TTL:PT1H
BEGIN:VTIMEZONE
TZID:America/New_York
BEGIN:DAYLIGHT
TZOFFSETFROM:-0500
TZOFFSETTO:-0400
TZNAME:EDT
DTSTART:20250309T070000
END:DAYLIGHT
BEGIN:STANDARD
TZOFFSETFROM:-0400
TZOFFSETTO:-0500
TZNAME:EST
DTSTART:20251102T060000
END:STANDARD
BEGIN:DAYLIGHT
TZOFFSETFROM:-0500
TZOFFSETTO:-0400
TZNAME:EDT
DTSTART:20260308T070000
END:DAYLIGHT
BEGIN:STANDARD
TZOFFSETFROM:-0400
TZOFFSETTO:-0500
TZNAME:EST
DTSTART:20261101T060000
END:STANDARD
BEGIN:DAYLIGHT
TZOFFSETFROM:-0500
TZOFFSETTO:-0400
TZNAME:EDT
DTSTART:20270314T070000
END:DAYLIGHT
BEGIN:STANDARD
TZOFFSETFROM:-0400
TZOFFSETTO:-0500
TZNAME:EST
DTSTART:20271107T060000
END:STANDARD
END:VTIMEZONE
BEGIN:VEVENT
DTSTART;TZID=America/New_York:20260718T120000
DTEND;TZID=America/New_York:20260718T230000
DTSTAMP:20260420T061903
CREATED:20260413T214952Z
LAST-MODIFIED:20260418T135154Z
UID:10000088-1784376000-1784415600@www.wiemer.com
SUMMARY:Blood of Gods Annual Merrymaking
DESCRIPTION:Every year\, the Blood Of Gods Merrymaking brings together winemakers\, artists\, musicians\, and thinkers who are helping move wine culture into more interesting territory – people with ideas\, personality\, and the courage to do things their own way. It will be our first visit to Washington State\, and we’re looking forward to meeting our cool climate friends on the West Coast! \nRegister for the event here – Blood of Gods 2026
URL:https://www.wiemer.com/event/blood-of-gods-annual-merrymaking/
LOCATION:NY
CATEGORIES:Wiemer on the Road
ATTACH;FMTTYPE=image/png:https://www.wiemer.com/wp-content/uploads/Blood-of-Gods.png
END:VEVENT
END:VCALENDAR