BEGIN:VCALENDAR
VERSION:2.0
PRODID:-//Hermann J. Wiemer Vineyard - ECPv6.15.19//NONSGML v1.0//EN
CALSCALE:GREGORIAN
METHOD:PUBLISH
X-ORIGINAL-URL:https://www.wiemer.com
X-WR-CALDESC:Events for Hermann J. Wiemer Vineyard
REFRESH-INTERVAL;VALUE=DURATION:PT1H
X-Robots-Tag:noindex
X-PUBLISHED-TTL:PT1H
BEGIN:VTIMEZONE
TZID:America/New_York
BEGIN:DAYLIGHT
TZOFFSETFROM:-0500
TZOFFSETTO:-0400
TZNAME:EDT
DTSTART:20250309T070000
END:DAYLIGHT
BEGIN:STANDARD
TZOFFSETFROM:-0400
TZOFFSETTO:-0500
TZNAME:EST
DTSTART:20251102T060000
END:STANDARD
BEGIN:DAYLIGHT
TZOFFSETFROM:-0500
TZOFFSETTO:-0400
TZNAME:EDT
DTSTART:20260308T070000
END:DAYLIGHT
BEGIN:STANDARD
TZOFFSETFROM:-0400
TZOFFSETTO:-0500
TZNAME:EST
DTSTART:20261101T060000
END:STANDARD
BEGIN:DAYLIGHT
TZOFFSETFROM:-0500
TZOFFSETTO:-0400
TZNAME:EDT
DTSTART:20270314T070000
END:DAYLIGHT
BEGIN:STANDARD
TZOFFSETFROM:-0400
TZOFFSETTO:-0500
TZNAME:EST
DTSTART:20271107T060000
END:STANDARD
END:VTIMEZONE
BEGIN:VEVENT
DTSTART;TZID=America/New_York:20260216T140000
DTEND;TZID=America/New_York:20260216T151500
DTSTAMP:20260422T043823
CREATED:20260205T151845Z
LAST-MODIFIED:20260205T151845Z
UID:10000066-1771250400-1771254900@www.wiemer.com
SUMMARY:Winter "Wonder"land Week: Pruning the Vineyard at Standing Stone
DESCRIPTION:While the vines may be dormant\, they still need care in the winter\, in fact\, it’s a crucial time for vineyard management. We’ll layer up and join Director of Vineyard Biology\, Thijs\, to learn about the skilled task of pruning. Discover how we prune our vines in preparation for the coming growing season and the reasoning behind each cut. After your viticulture lesson\, we’ll warm up inside the Standing Stone Tasting Lounge with one of Oskar’s Swedish favorites: rosehip soup and glühwein. \nTickets are $40 per person and $25 per Kabinett member. Please login to receive your Kabinett discount. \nClick here for tickets and more information: https://www.exploretock.com/wiemer/event/593528/open-doors-pruning-the-vineyard-at-standing-stone
URL:https://www.wiemer.com/event/winter-wonderland-week-pruning-the-vineyard-at-standing-stone/
LOCATION:Standing Stone\, 9934 NY-414\, Hector\, 14841\, United States
CATEGORIES:Education
ATTACH;FMTTYPE=image/png:https://www.wiemer.com/wp-content/uploads/Wonder-Week-Pruning.png
END:VEVENT
END:VCALENDAR